BEGIN:VCALENDAR
VERSION:2.0
PRODID:-//Goldgrube//myauktion.com//AT
CALSCALE:GREGORIAN
BEGIN:VEVENT
DTSTART:20250203T091700
DTEND:20250203T091730
LOCATION:Gewerbepark 13, 8562 Mooskirchen
DTSTAMP:20260424T175252
SUMMARY:MyAuktion: Ablauf Artikel Nr. 735283 Nakd Leinen Shorts 
URL;VALUE=URI:https://www.myauktion.com/versteigerung5659-position1836769-nakd-leinen-shorts.php
DESCRIPTION:Größe 36
UID:myauktion-5659-1836769
BEGIN:VALARM
ACTION:DISPLAY
DESCRIPTION:Größe 36
TRIGGER:-PT10M
END:VALARM
END:VEVENT
END:VCALENDAR