BEGIN:VCALENDAR
VERSION:2.0
PRODID:-//Goldgrube//myauktion.com//AT
CALSCALE:GREGORIAN
BEGIN:VEVENT
DTSTART:20250205T121700
DTEND:20250205T121730
LOCATION:Gewerbepark 13, 8562 Mooskirchen
DTSTAMP:20260420T011109
SUMMARY:MyAuktion: Ablauf Artikel Nr. 783136 Visco Mind Kopfkissen 
URL;VALUE=URI:https://www.myauktion.com/versteigerung5680-position1840988-visco-mind-kopfkissen.php
DESCRIPTION:Größe nicht ersichtlich 
UID:myauktion-5680-1840988
BEGIN:VALARM
ACTION:DISPLAY
DESCRIPTION:Größe nicht ersichtlich 
TRIGGER:-PT10M
END:VALARM
END:VEVENT
END:VCALENDAR