BEGIN:VCALENDAR
VERSION:2.0
PRODID:-//Goldgrube//myauktion.com//AT
CALSCALE:GREGORIAN
BEGIN:VEVENT
DTSTART:20250211T101000
DTEND:20250211T101030
LOCATION:Gewerbepark 13, 8562 Mooskirchen
DTSTAMP:20260423T003827
SUMMARY:MyAuktion: Ablauf Artikel Nr. 791667 Hefte A4 liniert 60stk 24Blatt 
URL;VALUE=URI:https://www.myauktion.com/versteigerung5690-position1845258-hefte-a4-liniert-60stk-24blatt.php
DESCRIPTION:Mit Rahmen 
UID:myauktion-5690-1845258
BEGIN:VALARM
ACTION:DISPLAY
DESCRIPTION:Mit Rahmen 
TRIGGER:-PT10M
END:VALARM
END:VEVENT
END:VCALENDAR