BEGIN:VCALENDAR
VERSION:2.0
PRODID:-//Goldgrube//myauktion.com//AT
CALSCALE:GREGORIAN
BEGIN:VEVENT
DTSTART:20250215T105100
DTEND:20250215T105130
LOCATION:Gewerbepark 13, 8562 Mooskirchen
DTSTAMP:20260421T194716
SUMMARY:MyAuktion: Ablauf Artikel Nr. 432731 Evercross Electric Scooter EV06C Blue 
URL;VALUE=URI:https://www.myauktion.com/versteigerung5699-position1850364-evercross-electric-scooter-ev06c-blue.php
DESCRIPTION:
UID:myauktion-5699-1850364
BEGIN:VALARM
ACTION:DISPLAY
DESCRIPTION:
TRIGGER:-PT10M
END:VALARM
END:VEVENT
END:VCALENDAR