BEGIN:VCALENDAR
VERSION:2.0
PRODID:-//Goldgrube//myauktion.com//AT
CALSCALE:GREGORIAN
BEGIN:VEVENT
DTSTART:20250216T150000
DTEND:20250216T150030
LOCATION:Gewerbepark 13, 8562 Mooskirchen
DTSTAMP:20260420T030016
SUMMARY:MyAuktion: Ablauf Artikel Nr. 432796 Dockers Herrenschuhe 42
URL;VALUE=URI:https://www.myauktion.com/versteigerung5701-position1850732-dockers-herrenschuhe-42.php
DESCRIPTION:
UID:myauktion-5701-1850732
BEGIN:VALARM
ACTION:DISPLAY
DESCRIPTION:
TRIGGER:-PT10M
END:VALARM
END:VEVENT
END:VCALENDAR