BEGIN:VCALENDAR
VERSION:2.0
PRODID:-//Goldgrube//myauktion.com//AT
CALSCALE:GREGORIAN
BEGIN:VEVENT
DTSTART:20250213T133458
DTEND:20250213T133528
LOCATION:Gewerbepark 13, 8562 Mooskirchen
DTSTAMP:20260421T161551
SUMMARY:MyAuktion: Ablauf Artikel Nr. 511571 HP LaserJet Toner Cartridge W2031XH Cyan 
URL;VALUE=URI:https://www.myauktion.com/versteigerung5708-position1851059-hp-laserjet-toner-cartridge-w2031xh-cyan.php
DESCRIPTION:
UID:myauktion-5708-1851059
BEGIN:VALARM
ACTION:DISPLAY
DESCRIPTION:
TRIGGER:-PT10M
END:VALARM
END:VEVENT
END:VCALENDAR