BEGIN:VCALENDAR
VERSION:2.0
PRODID:-//Goldgrube//myauktion.com//AT
CALSCALE:GREGORIAN
BEGIN:VEVENT
DTSTART:20250214T155400
DTEND:20250214T155430
LOCATION:Gewerbepark 13, 8562 Mooskirchen
DTSTAMP:20260424T122718
SUMMARY:MyAuktion: Ablauf Artikel Nr. 787721 OGrover Scooter 
URL;VALUE=URI:https://www.myauktion.com/versteigerung5709-position1851383-ogrover-scooter.php
DESCRIPTION:Gebraucht /Verschmutzt /Funktion nicht getestet 
UID:myauktion-5709-1851383
BEGIN:VALARM
ACTION:DISPLAY
DESCRIPTION:Gebraucht /Verschmutzt /Funktion nicht getestet 
TRIGGER:-PT10M
END:VALARM
END:VEVENT
END:VCALENDAR