BEGIN:VCALENDAR
VERSION:2.0
PRODID:-//Goldgrube//myauktion.com//AT
CALSCALE:GREGORIAN
BEGIN:VEVENT
DTSTART:20250215T170700
DTEND:20250215T170730
LOCATION:Gewerbepark 13, 8562 Mooskirchen
DTSTAMP:20260422T063929
SUMMARY:MyAuktion: Ablauf Artikel Nr. 785387 Sport Wrist Water Bottle 200ml
URL;VALUE=URI:https://www.myauktion.com/versteigerung5716-position1852161-sport-wrist-water-bottle-200ml.php
DESCRIPTION:
UID:myauktion-5716-1852161
BEGIN:VALARM
ACTION:DISPLAY
DESCRIPTION:
TRIGGER:-PT10M
END:VALARM
END:VEVENT
END:VCALENDAR