BEGIN:VCALENDAR
VERSION:2.0
PRODID:-//Goldgrube//myauktion.com//AT
CALSCALE:GREGORIAN
BEGIN:VEVENT
DTSTART:20250220T104800
DTEND:20250220T104830
LOCATION:Gewerbepark 13, 8562 Mooskirchen
DTSTAMP:20260425T223119
SUMMARY:MyAuktion: Ablauf Artikel Nr. 793682 Basil HR-Schultaschenkorb 
URL;VALUE=URI:https://www.myauktion.com/versteigerung5723-position1857112-basil-hr-schultaschenkorb.php
DESCRIPTION:
UID:myauktion-5723-1857112
BEGIN:VALARM
ACTION:DISPLAY
DESCRIPTION:
TRIGGER:-PT10M
END:VALARM
END:VEVENT
END:VCALENDAR