BEGIN:VCALENDAR
VERSION:2.0
PRODID:-//Goldgrube//myauktion.com//AT
CALSCALE:GREGORIAN
BEGIN:VEVENT
DTSTART:20250220T123500
DTEND:20250220T123530
LOCATION:Gewerbepark 13, 8562 Mooskirchen
DTSTAMP:20260420T072338
SUMMARY:MyAuktion: Ablauf Artikel Nr. 792637 Stay Spiced Caprese 80g
URL;VALUE=URI:https://www.myauktion.com/versteigerung5743-position1859424-stay-spiced-caprese-80g.php
DESCRIPTION:MHD 19.06.2027
UID:myauktion-5743-1859424
BEGIN:VALARM
ACTION:DISPLAY
DESCRIPTION:MHD 19.06.2027
TRIGGER:-PT10M
END:VALARM
END:VEVENT
END:VCALENDAR