BEGIN:VCALENDAR
VERSION:2.0
PRODID:-//Goldgrube//myauktion.com//AT
CALSCALE:GREGORIAN
BEGIN:VEVENT
DTSTART:20250220T114200
DTEND:20250220T114230
LOCATION:Gewerbepark 13, 8562 Mooskirchen
DTSTAMP:20260420T190219
SUMMARY:MyAuktion: Ablauf Artikel Nr. 792634 Stay Spiced Cafe de Paris 50g
URL;VALUE=URI:https://www.myauktion.com/versteigerung5743-position1859472-stay-spiced-cafe-de-paris-50g.php
DESCRIPTION:MHD 15.07.2026
UID:myauktion-5743-1859472
BEGIN:VALARM
ACTION:DISPLAY
DESCRIPTION:MHD 15.07.2026
TRIGGER:-PT10M
END:VALARM
END:VEVENT
END:VCALENDAR