BEGIN:VCALENDAR
VERSION:2.0
PRODID:-//Goldgrube//myauktion.com//AT
CALSCALE:GREGORIAN
BEGIN:VEVENT
DTSTART:20250225T113227
DTEND:20250225T113257
LOCATION:Gewerbepark 13, 8562 Mooskirchen
DTSTAMP:20260425T121817
SUMMARY:MyAuktion: Ablauf Artikel Nr. 795659 Papatya Joy-S Stuhl 4er set  kunststoffstuhl 200kg belastbar 
URL;VALUE=URI:https://www.myauktion.com/versteigerung5750-position1865062-papatya-joy-s-stuhl-4er-set-kunststoffstuhl-200kg-belastbar.php
DESCRIPTION:
UID:myauktion-5750-1865062
BEGIN:VALARM
ACTION:DISPLAY
DESCRIPTION:
TRIGGER:-PT10M
END:VALARM
END:VEVENT
END:VCALENDAR