BEGIN:VCALENDAR
VERSION:2.0
PRODID:-//Goldgrube//myauktion.com//AT
CALSCALE:GREGORIAN
BEGIN:VEVENT
DTSTART:20250225T104800
DTEND:20250225T104830
LOCATION:Gewerbepark 13, 8562 Mooskirchen
DTSTAMP:20260424T210843
SUMMARY:MyAuktion: Ablauf Artikel Nr. 795438 Xiaomi Electric Scooter 4 Lite 2nd Gen 
URL;VALUE=URI:https://www.myauktion.com/versteigerung5750-position1865078-xiaomi-electric-scooter-4-lite-2nd-gen.php
DESCRIPTION:Funktion nicht getestet / Beschädigt 
UID:myauktion-5750-1865078
BEGIN:VALARM
ACTION:DISPLAY
DESCRIPTION:Funktion nicht getestet / Beschädigt 
TRIGGER:-PT10M
END:VALARM
END:VEVENT
END:VCALENDAR