BEGIN:VCALENDAR
VERSION:2.0
PRODID:-//Goldgrube//myauktion.com//AT
CALSCALE:GREGORIAN
BEGIN:VEVENT
DTSTART:20250227T131500
DTEND:20250227T131530
LOCATION:Gewerbepark 13, 8562 Mooskirchen
DTSTAMP:20260420T135401
SUMMARY:MyAuktion: Ablauf Artikel Nr. 781104 Sklum Janti Garden chair 2 Stück
URL;VALUE=URI:https://www.myauktion.com/versteigerung5760-position1867810-sklum-janti-garden-chair-2-stueck.php
DESCRIPTION:
UID:myauktion-5760-1867810
BEGIN:VALARM
ACTION:DISPLAY
DESCRIPTION:
TRIGGER:-PT10M
END:VALARM
END:VEVENT
END:VCALENDAR