BEGIN:VCALENDAR
VERSION:2.0
PRODID:-//Goldgrube//myauktion.com//AT
CALSCALE:GREGORIAN
BEGIN:VEVENT
DTSTART:20250301T144202
DTEND:20250301T144232
LOCATION:Gewerbepark 13, 8562 Mooskirchen
DTSTAMP:20260422T021148
SUMMARY:MyAuktion: Ablauf Artikel Nr. 797039 Ecover Refill Laundry Liquid Colour 5L
URL;VALUE=URI:https://www.myauktion.com/versteigerung5767-position1870541-ecover-refill-laundry-liquid-colour-5l.php
DESCRIPTION:
UID:myauktion-5767-1870541
BEGIN:VALARM
ACTION:DISPLAY
DESCRIPTION:
TRIGGER:-PT10M
END:VALARM
END:VEVENT
END:VCALENDAR