BEGIN:VCALENDAR
VERSION:2.0
PRODID:-//Goldgrube//myauktion.com//AT
CALSCALE:GREGORIAN
BEGIN:VEVENT
DTSTART:20250304T131600
DTEND:20250304T131630
LOCATION:Gewerbepark 13, 8562 Mooskirchen
DTSTAMP:20260423T010437
SUMMARY:MyAuktion: Ablauf Artikel Nr. 386374 Hollister Zehntrenner 
URL;VALUE=URI:https://www.myauktion.com/versteigerung5781-position1872059-hollister-zehntrenner.php
DESCRIPTION:Gr. ca. 24.5cm 
UID:myauktion-5781-1872059
BEGIN:VALARM
ACTION:DISPLAY
DESCRIPTION:Gr. ca. 24.5cm 
TRIGGER:-PT10M
END:VALARM
END:VEVENT
END:VCALENDAR