BEGIN:VCALENDAR
VERSION:2.0
PRODID:-//Goldgrube//myauktion.com//AT
CALSCALE:GREGORIAN
BEGIN:VEVENT
DTSTART:20250303T144000
DTEND:20250303T144030
LOCATION:Gewerbepark 13, 8562 Mooskirchen
DTSTAMP:20260424T030416
SUMMARY:MyAuktion: Ablauf Artikel Nr. 390974 Mem Dach&Fugendicht 3x300ml
URL;VALUE=URI:https://www.myauktion.com/versteigerung5785-position1874184-mem-dach-38fugendicht-3x300ml.php
DESCRIPTION:
UID:myauktion-5785-1874184
BEGIN:VALARM
ACTION:DISPLAY
DESCRIPTION:
TRIGGER:-PT10M
END:VALARM
END:VEVENT
END:VCALENDAR