BEGIN:VCALENDAR
VERSION:2.0
PRODID:-//Goldgrube//myauktion.com//AT
CALSCALE:GREGORIAN
BEGIN:VEVENT
DTSTART:20250228T091600
DTEND:20250228T091630
LOCATION:Gewerbepark 13, 8562 Mooskirchen
DTSTAMP:20260421T191642
SUMMARY:MyAuktion: Ablauf Artikel Nr. 353535 Pringles sweet Chilli 160g
URL;VALUE=URI:https://www.myauktion.com/versteigerung5786-position1874515-pringles-sweet-chilli-160g.php
DESCRIPTION:MHD: 15.07.2025
UID:myauktion-5786-1874515
BEGIN:VALARM
ACTION:DISPLAY
DESCRIPTION:MHD: 15.07.2025
TRIGGER:-PT10M
END:VALARM
END:VEVENT
END:VCALENDAR