BEGIN:VCALENDAR
VERSION:2.0
PRODID:-//Goldgrube//myauktion.com//AT
CALSCALE:GREGORIAN
BEGIN:VEVENT
DTSTART:20250413T130629
DTEND:20250413T130659
LOCATION:Gewerbepark 13, 8562 Mooskirchen
DTSTAMP:20260421T011011
SUMMARY:MyAuktion: Ablauf Artikel Nr. 394987 Scheiben ohne Fase 140 HV DIN 125A verzinkt M12
URL;VALUE=URI:https://www.myauktion.com/versteigerung5793-position1879991-scheiben-ohne-fase-140-hv-din-125a-verzinkt-m12.php
DESCRIPTION:<div>500er Pack</div>
UID:myauktion-5793-1879991
BEGIN:VALARM
ACTION:DISPLAY
DESCRIPTION:<div>500er Pack</div>
TRIGGER:-PT10M
END:VALARM
END:VEVENT
END:VCALENDAR