BEGIN:VCALENDAR
VERSION:2.0
PRODID:-//Goldgrube//myauktion.com//AT
CALSCALE:GREGORIAN
BEGIN:VEVENT
DTSTART:20250413T143713
DTEND:20250413T143743
LOCATION:Gewerbepark 13, 8562 Mooskirchen
DTSTAMP:20260425T001314
SUMMARY:MyAuktion: Ablauf Artikel Nr. 395147 Fischer Bolzen FBN II 12/30 (12x124) 20er Pack
URL;VALUE=URI:https://www.myauktion.com/versteigerung5793-position1880144-fischer-bolzen-fbn-ii-12-30-12x124-20er-pack.php
DESCRIPTION:<div>Stahl galvanisch verzinkt</div>
UID:myauktion-5793-1880144
BEGIN:VALARM
ACTION:DISPLAY
DESCRIPTION:<div>Stahl galvanisch verzinkt</div>
TRIGGER:-PT10M
END:VALARM
END:VEVENT
END:VCALENDAR