BEGIN:VCALENDAR
VERSION:2.0
PRODID:-//Goldgrube//myauktion.com//AT
CALSCALE:GREGORIAN
BEGIN:VEVENT
DTSTART:20250413T141715
DTEND:20250413T141745
LOCATION:Gewerbepark 13, 8562 Mooskirchen
DTSTAMP:20260421T003619
SUMMARY:MyAuktion: Ablauf Artikel Nr. 395122 Fischer Betonschraube FBS II Ultracut 8x70
URL;VALUE=URI:https://www.myauktion.com/versteigerung5793-position1880560-fischer-betonschraube-fbs-ii-ultracut-8x70.php
DESCRIPTION:<div>verzinkt, Sechskantkopf TX 50er Pack </div>
UID:myauktion-5793-1880560
BEGIN:VALARM
ACTION:DISPLAY
DESCRIPTION:<div>verzinkt, Sechskantkopf TX 50er Pack </div>
TRIGGER:-PT10M
END:VALARM
END:VEVENT
END:VCALENDAR