BEGIN:VCALENDAR
VERSION:2.0
PRODID:-//Goldgrube//myauktion.com//AT
CALSCALE:GREGORIAN
BEGIN:VEVENT
DTSTART:20250413T182300
DTEND:20250413T182330
LOCATION:Gewerbepark 13, 8562 Mooskirchen
DTSTAMP:20260421T044908
SUMMARY:MyAuktion: Ablauf Artikel Nr. 395131 Fischer Betonschraube FBS II Ultracut 10x80
URL;VALUE=URI:https://www.myauktion.com/versteigerung5793-position1880564-fischer-betonschraube-fbs-ii-ultracut-10x80.php
DESCRIPTION:<div>verzinkt, Sechskantkopf, 50er Pack</div>
UID:myauktion-5793-1880564
BEGIN:VALARM
ACTION:DISPLAY
DESCRIPTION:<div>verzinkt, Sechskantkopf, 50er Pack</div>
TRIGGER:-PT10M
END:VALARM
END:VEVENT
END:VCALENDAR