BEGIN:VCALENDAR
VERSION:2.0
PRODID:-//Goldgrube//myauktion.com//AT
CALSCALE:GREGORIAN
BEGIN:VEVENT
DTSTART:20250413T150345
DTEND:20250413T150415
LOCATION:Gewerbepark 13, 8562 Mooskirchen
DTSTAMP:20260419T182548
SUMMARY:MyAuktion: Ablauf Artikel Nr. 395191 Pewag Connex Verbindungsglied CW 8
URL;VALUE=URI:https://www.myauktion.com/versteigerung5793-position1881204-pewag-connex-verbindungsglied-cw-8.php
DESCRIPTION:
UID:myauktion-5793-1881204
BEGIN:VALARM
ACTION:DISPLAY
DESCRIPTION:
TRIGGER:-PT10M
END:VALARM
END:VEVENT
END:VCALENDAR