BEGIN:VCALENDAR
VERSION:2.0
PRODID:-//Goldgrube//myauktion.com//AT
CALSCALE:GREGORIAN
BEGIN:VEVENT
DTSTART:20250316T092621
DTEND:20250316T092651
LOCATION:Gewerbepark 13, 8562 Mooskirchen
DTSTAMP:20260421T072651
SUMMARY:MyAuktion: Ablauf Artikel Nr. 393872 2 Euro, 30 Jahre Europa Flagge
URL;VALUE=URI:https://www.myauktion.com/versteigerung5812-position1885112-2-euro-30-jahre-europa-flagge.php
DESCRIPTION:Eine mit eingravierten "Hologramm", unterschiedliche Länder, 2015
UID:myauktion-5812-1885112
BEGIN:VALARM
ACTION:DISPLAY
DESCRIPTION:Eine mit eingravierten "Hologramm", unterschiedliche Länder, 2015
TRIGGER:-PT10M
END:VALARM
END:VEVENT
END:VCALENDAR