BEGIN:VCALENDAR
VERSION:2.0
PRODID:-//Goldgrube//myauktion.com//AT
CALSCALE:GREGORIAN
BEGIN:VEVENT
DTSTART:20250316T095830
DTEND:20250316T095900
LOCATION:Gewerbepark 13, 8562 Mooskirchen
DTSTAMP:20260420T015848
SUMMARY:MyAuktion: Ablauf Artikel Nr. 393904 2 Euro Sondermünze "Großherzog Henri" vergoldet 
URL;VALUE=URI:https://www.myauktion.com/versteigerung5812-position1885145-2-euro-sondermuenze-34grossherzog-henri-34-vergoldet.php
DESCRIPTION:Luxemburg 2004
UID:myauktion-5812-1885145
BEGIN:VALARM
ACTION:DISPLAY
DESCRIPTION:Luxemburg 2004
TRIGGER:-PT10M
END:VALARM
END:VEVENT
END:VCALENDAR