BEGIN:VCALENDAR
VERSION:2.0
PRODID:-//Goldgrube//myauktion.com//AT
CALSCALE:GREGORIAN
BEGIN:VEVENT
DTSTART:20250314T155300
DTEND:20250314T155330
LOCATION:Gewerbepark 13, 8562 Mooskirchen
DTSTAMP:20260420T042700
SUMMARY:MyAuktion: Ablauf Artikel Nr. 800337 Apotheker Auer&#39;s Schwedenbitter 500ml
URL;VALUE=URI:https://www.myauktion.com/versteigerung5825-position1887377-apotheker-auer-39s-schwedenbitter-500ml.php
DESCRIPTION:MHD 06.27
UID:myauktion-5825-1887377
BEGIN:VALARM
ACTION:DISPLAY
DESCRIPTION:MHD 06.27
TRIGGER:-PT10M
END:VALARM
END:VEVENT
END:VCALENDAR