BEGIN:VCALENDAR
VERSION:2.0
PRODID:-//Goldgrube//myauktion.com//AT
CALSCALE:GREGORIAN
BEGIN:VEVENT
DTSTART:20250316T110300
DTEND:20250316T110330
LOCATION:Gewerbepark 13, 8562 Mooskirchen
DTSTAMP:20260422T185636
SUMMARY:MyAuktion: Ablauf Artikel Nr. 800678 Modern Living Rudi Exklusiv 23280024-03 Schwarz 60x118x24cm
URL;VALUE=URI:https://www.myauktion.com/versteigerung5828-position1888782-modern-living-rudi-exklusiv-23280024-03-schwarz-60x118x24cm.php
DESCRIPTION:Keine näheren Daten ersichtlich 
UID:myauktion-5828-1888782
BEGIN:VALARM
ACTION:DISPLAY
DESCRIPTION:Keine näheren Daten ersichtlich 
TRIGGER:-PT10M
END:VALARM
END:VEVENT
END:VCALENDAR