BEGIN:VCALENDAR
VERSION:2.0
PRODID:-//Goldgrube//myauktion.com//AT
CALSCALE:GREGORIAN
BEGIN:VEVENT
DTSTART:20250316T113431
DTEND:20250316T113501
LOCATION:Gewerbepark 13, 8562 Mooskirchen
DTSTAMP:20260424T222724
SUMMARY:MyAuktion: Ablauf Artikel Nr. 801574 Philips 2200 series Classic Milk Frother Kaffeemaschine 
URL;VALUE=URI:https://www.myauktion.com/versteigerung5828-position1888803-philips-2200-series-classic-milk-frother-kaffeemaschine.php
DESCRIPTION:Gebraucht, verschmutzt, Funktion nicht getestet 
UID:myauktion-5828-1888803
BEGIN:VALARM
ACTION:DISPLAY
DESCRIPTION:Gebraucht, verschmutzt, Funktion nicht getestet 
TRIGGER:-PT10M
END:VALARM
END:VEVENT
END:VCALENDAR