BEGIN:VCALENDAR
VERSION:2.0
PRODID:-//Goldgrube//myauktion.com//AT
CALSCALE:GREGORIAN
BEGIN:VEVENT
DTSTART:20250314T141300
DTEND:20250314T141330
LOCATION:Gewerbepark 13, 8562 Mooskirchen
DTSTAMP:20260423T090114
SUMMARY:MyAuktion: Ablauf Artikel Nr. 793961 BMW Rillenkugellager Fg683916. 01 KL-H79-M/01
URL;VALUE=URI:https://www.myauktion.com/versteigerung5832-position1889590-bmw-rillenkugellager-fg683916-01-kl-h79-m-01.php
DESCRIPTION:
UID:myauktion-5832-1889590
BEGIN:VALARM
ACTION:DISPLAY
DESCRIPTION:
TRIGGER:-PT10M
END:VALARM
END:VEVENT
END:VCALENDAR