BEGIN:VCALENDAR
VERSION:2.0
PRODID:-//Goldgrube//myauktion.com//AT
CALSCALE:GREGORIAN
BEGIN:VEVENT
DTSTART:20250315T155600
DTEND:20250315T155630
LOCATION:Gewerbepark 13, 8562 Mooskirchen
DTSTAMP:20260422T174923
SUMMARY:MyAuktion: Ablauf Artikel Nr. 515903 Intex Round Spa Cover für 6 Personen 12107W
URL;VALUE=URI:https://www.myauktion.com/versteigerung5835-position1891378-intex-round-spa-cover-fuer-6-personen-12107w.php
DESCRIPTION:
UID:myauktion-5835-1891378
BEGIN:VALARM
ACTION:DISPLAY
DESCRIPTION:
TRIGGER:-PT10M
END:VALARM
END:VEVENT
END:VCALENDAR