BEGIN:VCALENDAR
VERSION:2.0
PRODID:-//Goldgrube//myauktion.com//AT
CALSCALE:GREGORIAN
BEGIN:VEVENT
DTSTART:20250318T093700
DTEND:20250318T093730
LOCATION:Gewerbepark 13, 8562 Mooskirchen
DTSTAMP:20260423T180553
SUMMARY:MyAuktion: Ablauf Artikel Nr. 436073 Tourador All Season Tyre Reifen 155/65R14
URL;VALUE=URI:https://www.myauktion.com/versteigerung5842-position1892645-tourador-all-season-tyre-reifen-155-65r14.php
DESCRIPTION:
UID:myauktion-5842-1892645
BEGIN:VALARM
ACTION:DISPLAY
DESCRIPTION:
TRIGGER:-PT10M
END:VALARM
END:VEVENT
END:VCALENDAR