BEGIN:VCALENDAR
VERSION:2.0
PRODID:-//Goldgrube//myauktion.com//AT
CALSCALE:GREGORIAN
BEGIN:VEVENT
DTSTART:20250318T094200
DTEND:20250318T094230
LOCATION:Gewerbepark 13, 8562 Mooskirchen
DTSTAMP:20260420T114240
SUMMARY:MyAuktion: Ablauf Artikel Nr. 436080 Sailun Atrezzo 4 Seasons Pro Reifen 205/50R17
URL;VALUE=URI:https://www.myauktion.com/versteigerung5842-position1892650-sailun-atrezzo-4-seasons-pro-reifen-205-50r17.php
DESCRIPTION:
UID:myauktion-5842-1892650
BEGIN:VALARM
ACTION:DISPLAY
DESCRIPTION:
TRIGGER:-PT10M
END:VALARM
END:VEVENT
END:VCALENDAR