BEGIN:VCALENDAR
VERSION:2.0
PRODID:-//Goldgrube//myauktion.com//AT
CALSCALE:GREGORIAN
BEGIN:VEVENT
DTSTART:20250319T124300
DTEND:20250319T124330
LOCATION:Gewerbepark 13, 8562 Mooskirchen
DTSTAMP:20260420T143330
SUMMARY:MyAuktion: Ablauf Artikel Nr. 801679 Klemmmarkise Senkrechtmarkise außen 200x310cm ausziehbar & blickdicht 
URL;VALUE=URI:https://www.myauktion.com/versteigerung5847-position1893312-klemmmarkise-senkrechtmarkise-aussen-200x310cm-ausziehbar-38-blickdicht.php
DESCRIPTION:Gebraucht, Funktion nicht getestet 
UID:myauktion-5847-1893312
BEGIN:VALARM
ACTION:DISPLAY
DESCRIPTION:Gebraucht, Funktion nicht getestet 
TRIGGER:-PT10M
END:VALARM
END:VEVENT
END:VCALENDAR