BEGIN:VCALENDAR
VERSION:2.0
PRODID:-//Goldgrube//myauktion.com//AT
CALSCALE:GREGORIAN
BEGIN:VEVENT
DTSTART:20250320T163800
DTEND:20250320T163830
LOCATION:Gewerbepark 13, 8562 Mooskirchen
DTSTAMP:20260425T045148
SUMMARY:MyAuktion: Ablauf Artikel Nr. 384138 Braun Injekt Luer Solo 20ml und Sterican 1.20x40mm 10stk
URL;VALUE=URI:https://www.myauktion.com/versteigerung5853-position1894618-braun-injekt-luer-solo-20ml-und-sterican-120x40mm-10stk.php
DESCRIPTION:MHD 01.06.20
UID:myauktion-5853-1894618
BEGIN:VALARM
ACTION:DISPLAY
DESCRIPTION:MHD 01.06.20
TRIGGER:-PT10M
END:VALARM
END:VEVENT
END:VCALENDAR