BEGIN:VCALENDAR
VERSION:2.0
PRODID:-//Goldgrube//myauktion.com//AT
CALSCALE:GREGORIAN
BEGIN:VEVENT
DTSTART:20250321T122200
DTEND:20250321T122230
LOCATION:Gewerbepark 13, 8562 Mooskirchen
DTSTAMP:20260419T175504
SUMMARY:MyAuktion: Ablauf Artikel Nr. 801767 Kattovit Gastro mit Ente+Reis für Katze 24x85g
URL;VALUE=URI:https://www.myauktion.com/versteigerung5855-position1898335-kattovit-gastro-mit-ente-reis-fuer-katze-24x85g.php
DESCRIPTION:MHD 08.2026
UID:myauktion-5855-1898335
BEGIN:VALARM
ACTION:DISPLAY
DESCRIPTION:MHD 08.2026
TRIGGER:-PT10M
END:VALARM
END:VEVENT
END:VCALENDAR