BEGIN:VCALENDAR
VERSION:2.0
PRODID:-//Goldgrube//myauktion.com//AT
CALSCALE:GREGORIAN
BEGIN:VEVENT
DTSTART:20250321T154239
DTEND:20250321T154309
LOCATION:Gewerbepark 13, 8562 Mooskirchen
DTSTAMP:20260424T080005
SUMMARY:MyAuktion: Ablauf Artikel Nr. 801829 Mammaly Pee Smart for Kitties Hygienestreu mit pH Indikator 1,64kg 
URL;VALUE=URI:https://www.myauktion.com/versteigerung5855-position1898428-mammaly-pee-smart-for-kitties-hygienestreu-mit-ph-indikator-164kg.php
DESCRIPTION:
UID:myauktion-5855-1898428
BEGIN:VALARM
ACTION:DISPLAY
DESCRIPTION:
TRIGGER:-PT10M
END:VALARM
END:VEVENT
END:VCALENDAR