BEGIN:VCALENDAR
VERSION:2.0
PRODID:-//Goldgrube//myauktion.com//AT
CALSCALE:GREGORIAN
BEGIN:VEVENT
DTSTART:20250322T135400
DTEND:20250322T135430
LOCATION:Gewerbepark 13, 8562 Mooskirchen
DTSTAMP:20260424T112249
SUMMARY:MyAuktion: Ablauf Artikel Nr. 800928 Naturkosmetik Tiroler Kräuterhof Shampoo 490ml
URL;VALUE=URI:https://www.myauktion.com/versteigerung5858-position1898744-naturkosmetik-tiroler-kraeuterhof-shampoo-490ml.php
DESCRIPTION:
UID:myauktion-5858-1898744
BEGIN:VALARM
ACTION:DISPLAY
DESCRIPTION:
TRIGGER:-PT10M
END:VALARM
END:VEVENT
END:VCALENDAR