BEGIN:VCALENDAR
VERSION:2.0
PRODID:-//Goldgrube//myauktion.com//AT
CALSCALE:GREGORIAN
BEGIN:VEVENT
DTSTART:20250322T135700
DTEND:20250322T135730
LOCATION:Gewerbepark 13, 8562 Mooskirchen
DTSTAMP:20260422T080448
SUMMARY:MyAuktion: Ablauf Artikel Nr. 800929 Naturkosmetik Tiroler Kräuterhof Shampoo 1000ml
URL;VALUE=URI:https://www.myauktion.com/versteigerung5858-position1898745-naturkosmetik-tiroler-kraeuterhof-shampoo-1000ml.php
DESCRIPTION:
UID:myauktion-5858-1898745
BEGIN:VALARM
ACTION:DISPLAY
DESCRIPTION:
TRIGGER:-PT10M
END:VALARM
END:VEVENT
END:VCALENDAR