BEGIN:VCALENDAR
VERSION:2.0
PRODID:-//Goldgrube//myauktion.com//AT
CALSCALE:GREGORIAN
BEGIN:VEVENT
DTSTART:20250320T154800
DTEND:20250320T154830
LOCATION:Gewerbepark 13, 8562 Mooskirchen
DTSTAMP:20260422T074220
SUMMARY:MyAuktion: Ablauf Artikel Nr. 396439 Steckspiel aus Holz für Kinder mit Buchstaben A-Z Formen
URL;VALUE=URI:https://www.myauktion.com/versteigerung5881-position1901232-steckspiel-aus-holz-fuer-kinder-mit-buchstaben-a-z-formen.php
DESCRIPTION:
UID:myauktion-5881-1901232
BEGIN:VALARM
ACTION:DISPLAY
DESCRIPTION:
TRIGGER:-PT10M
END:VALARM
END:VEVENT
END:VCALENDAR