BEGIN:VCALENDAR
VERSION:2.0
PRODID:-//Goldgrube//myauktion.com//AT
CALSCALE:GREGORIAN
BEGIN:VEVENT
DTSTART:20250323T104000
DTEND:20250323T104030
LOCATION:Gewerbepark 13, 8562 Mooskirchen
DTSTAMP:20260422T130929
SUMMARY:MyAuktion: Ablauf Artikel Nr. 360296 Dell UltraSharp 27 USB-C Hub Monitor U2722DE Silber 68.5cm
URL;VALUE=URI:https://www.myauktion.com/versteigerung5862-position1901592-dell-ultrasharp-27-usb-c-hub-monitor-u2722de-silber-685cm.php
DESCRIPTION:
UID:myauktion-5862-1901592
BEGIN:VALARM
ACTION:DISPLAY
DESCRIPTION:
TRIGGER:-PT10M
END:VALARM
END:VEVENT
END:VCALENDAR