BEGIN:VCALENDAR
VERSION:2.0
PRODID:-//Goldgrube//myauktion.com//AT
CALSCALE:GREGORIAN
BEGIN:VEVENT
DTSTART:20250323T094708
DTEND:20250323T094738
LOCATION:Gewerbepark 13, 8562 Mooskirchen
DTSTAMP:20260419T173134
SUMMARY:MyAuktion: Ablauf Artikel Nr. 360252 Severin Raclette Grill mit Naturgrillstein 485x240mm RG 2373
URL;VALUE=URI:https://www.myauktion.com/versteigerung5862-position1901594-severin-raclette-grill-mit-naturgrillstein-485x240mm-rg-2373.php
DESCRIPTION:
UID:myauktion-5862-1901594
BEGIN:VALARM
ACTION:DISPLAY
DESCRIPTION:
TRIGGER:-PT10M
END:VALARM
END:VEVENT
END:VCALENDAR