BEGIN:VCALENDAR
VERSION:2.0
PRODID:-//Goldgrube//myauktion.com//AT
CALSCALE:GREGORIAN
BEGIN:VEVENT
DTSTART:20250326T150900
DTEND:20250326T150930
LOCATION:Gewerbepark 13, 8562 Mooskirchen
DTSTAMP:20260420T135402
SUMMARY:MyAuktion: Ablauf Artikel Nr. 359726 Cat Adventures Kinder Kappe 
URL;VALUE=URI:https://www.myauktion.com/versteigerung5887-position1903759-cat-adventures-kinder-kappe.php
DESCRIPTION:Gr. 54-56
UID:myauktion-5887-1903759
BEGIN:VALARM
ACTION:DISPLAY
DESCRIPTION:Gr. 54-56
TRIGGER:-PT10M
END:VALARM
END:VEVENT
END:VCALENDAR