BEGIN:VCALENDAR
VERSION:2.0
PRODID:-//Goldgrube//myauktion.com//AT
CALSCALE:GREGORIAN
BEGIN:VEVENT
DTSTART:20250325T092605
DTEND:20250325T092635
LOCATION:Gewerbepark 13, 8562 Mooskirchen
DTSTAMP:20260424T220305
SUMMARY:MyAuktion: Ablauf Artikel Nr. 516917 Yuna Motror MT3.5x13 Felge mit Timsun Gummi 110/70-13 
URL;VALUE=URI:https://www.myauktion.com/versteigerung5871-position1904220-yuna-motror-mt35x13-felge-mit-timsun-gummi-110-70-13.php
DESCRIPTION:
UID:myauktion-5871-1904220
BEGIN:VALARM
ACTION:DISPLAY
DESCRIPTION:
TRIGGER:-PT10M
END:VALARM
END:VEVENT
END:VCALENDAR