BEGIN:VCALENDAR
VERSION:2.0
PRODID:-//Goldgrube//myauktion.com//AT
CALSCALE:GREGORIAN
BEGIN:VEVENT
DTSTART:20250325T103700
DTEND:20250325T103730
LOCATION:Gewerbepark 13, 8562 Mooskirchen
DTSTAMP:20260424T132524
SUMMARY:MyAuktion: Ablauf Artikel Nr. 519607 Mercedes Felge mit Reifen 205/45 R17 Continental 
URL;VALUE=URI:https://www.myauktion.com/versteigerung5871-position1904242-mercedes-felge-mit-reifen-205-45-r17-continental.php
DESCRIPTION:Gebraucht, verschmutzt 
UID:myauktion-5871-1904242
BEGIN:VALARM
ACTION:DISPLAY
DESCRIPTION:Gebraucht, verschmutzt 
TRIGGER:-PT10M
END:VALARM
END:VEVENT
END:VCALENDAR