BEGIN:VCALENDAR
VERSION:2.0
PRODID:-//Goldgrube//myauktion.com//AT
CALSCALE:GREGORIAN
BEGIN:VEVENT
DTSTART:20250325T101200
DTEND:20250325T101230
LOCATION:Gewerbepark 13, 8562 Mooskirchen
DTSTAMP:20260420T091040
SUMMARY:MyAuktion: Ablauf Artikel Nr. 519587 Insekten/Nagerschutz für Fenster mit Edelstahlgewebe 100x60cm
URL;VALUE=URI:https://www.myauktion.com/versteigerung5871-position1904260-insekten-nagerschutz-fuer-fenster-mit-edelstahlgewebe-100x60cm.php
DESCRIPTION:Anthrazit
UID:myauktion-5871-1904260
BEGIN:VALARM
ACTION:DISPLAY
DESCRIPTION:Anthrazit
TRIGGER:-PT10M
END:VALARM
END:VEVENT
END:VCALENDAR