BEGIN:VCALENDAR
VERSION:2.0
PRODID:-//Goldgrube//myauktion.com//AT
CALSCALE:GREGORIAN
BEGIN:VEVENT
DTSTART:20250326T092122
DTEND:20250326T092152
LOCATION:Gewerbepark 13, 8562 Mooskirchen
DTSTAMP:20260420T075442
SUMMARY:MyAuktion: Ablauf Artikel Nr. 428525 Erdspieß rot 117cm 
URL;VALUE=URI:https://www.myauktion.com/versteigerung5874-position1906330-erdspiess-rot-117cm.php
DESCRIPTION:
UID:myauktion-5874-1906330
BEGIN:VALARM
ACTION:DISPLAY
DESCRIPTION:
TRIGGER:-PT10M
END:VALARM
END:VEVENT
END:VCALENDAR