BEGIN:VCALENDAR
VERSION:2.0
PRODID:-//Goldgrube//myauktion.com//AT
CALSCALE:GREGORIAN
BEGIN:VEVENT
DTSTART:20250329T120900
DTEND:20250329T120930
LOCATION:Gewerbepark 13, 8562 Mooskirchen
DTSTAMP:20260420T163100
SUMMARY:MyAuktion: Ablauf Artikel Nr. 437642 Smart Home Lights Deckenleuchte 
URL;VALUE=URI:https://www.myauktion.com/versteigerung5895-position1909243-smart-home-lights-deckenleuchte.php
DESCRIPTION:
UID:myauktion-5895-1909243
BEGIN:VALARM
ACTION:DISPLAY
DESCRIPTION:
TRIGGER:-PT10M
END:VALARM
END:VEVENT
END:VCALENDAR