BEGIN:VCALENDAR
VERSION:2.0
PRODID:-//Goldgrube//myauktion.com//AT
CALSCALE:GREGORIAN
BEGIN:VEVENT
DTSTART:20250330T182509
DTEND:20250330T182539
LOCATION:Gewerbepark 13, 8562 Mooskirchen
DTSTAMP:20260423T082527
SUMMARY:MyAuktion: Ablauf Artikel Nr. 802863 Vexil Urin und Kalkstein Entferner 1L
URL;VALUE=URI:https://www.myauktion.com/versteigerung5896-position1910192-vexil-urin-und-kalkstein-entferner-1l.php
DESCRIPTION:
UID:myauktion-5896-1910192
BEGIN:VALARM
ACTION:DISPLAY
DESCRIPTION:
TRIGGER:-PT10M
END:VALARM
END:VEVENT
END:VCALENDAR