BEGIN:VCALENDAR
VERSION:2.0
PRODID:-//Goldgrube//myauktion.com//AT
CALSCALE:GREGORIAN
BEGIN:VEVENT
DTSTART:20250401T122900
DTEND:20250401T122930
LOCATION:Gewerbepark 13, 8562 Mooskirchen
DTSTAMP:20260421T062149
SUMMARY:MyAuktion: Ablauf Artikel Nr. 803242 DM Müllsäcke 60L mit Zugband 
URL;VALUE=URI:https://www.myauktion.com/versteigerung5904-position1911929-dm-muellsaecke-60l-mit-zugband.php
DESCRIPTION:
UID:myauktion-5904-1911929
BEGIN:VALARM
ACTION:DISPLAY
DESCRIPTION:
TRIGGER:-PT10M
END:VALARM
END:VEVENT
END:VCALENDAR