BEGIN:VCALENDAR
VERSION:2.0
PRODID:-//Goldgrube//myauktion.com//AT
CALSCALE:GREGORIAN
BEGIN:VEVENT
DTSTART:20250331T132400
DTEND:20250331T132430
LOCATION:Gewerbepark 13, 8562 Mooskirchen
DTSTAMP:20260421T033002
SUMMARY:MyAuktion: Ablauf Artikel Nr. 421633 2tlg. Seersucker Bettwäsche blaugrau 70x90 cm + 140x200 cm
URL;VALUE=URI:https://www.myauktion.com/versteigerung5906-position1912098-2tlg-seersucker-bettwaesche-blaugrau-70x90-cm-140x200-cm.php
DESCRIPTION:aus 100% Baumwolle mit Reißverschluss. 
UID:myauktion-5906-1912098
BEGIN:VALARM
ACTION:DISPLAY
DESCRIPTION:aus 100% Baumwolle mit Reißverschluss. 
TRIGGER:-PT10M
END:VALARM
END:VEVENT
END:VCALENDAR